BEGIN:VCALENDAR
VERSION:2.0
PRODID:-//wp-events-plugin.com//7.2.3.1//EN
TZID:America/Guayaquil
X-WR-TIMEZONE:America/Guayaquil
BEGIN:VEVENT
UID:15@vilcavibes.com
DTSTART;TZID=America/Guayaquil;VALUE=DATE:20251002
DTEND;TZID=America/Guayaquil;VALUE=DATE:20251003
DTSTAMP:20250925T182946Z
URL:https://vilcavibes.com/events/therapy-session/
SUMMARY:therapy session
DESCRIPTION:this is my event\n\n&nbsp\;\n\nits free
ATTACH;FMTTYPE=image/jpeg:https://vilcavibes.com/wp-content/uploads/ec6fd1
 bb41bccea1d5890a668e33e127.jpg
CATEGORIES:Kids’ Activities
LOCATION:Home\, Av. Eterna Juventud 1345\, Vilcabamba\, Loja\, 110119\, Loj
 a\, Ecuador
GEO:-4.261871;-79.223844
X-APPLE-STRUCTURED-LOCATION;VALUE=URI;X-ADDRESS=Av. Eterna Juventud 1345\, 
 Vilcabamba\, Loja\, 110119\, Loja\, Ecuador;X-APPLE-RADIUS=100;X-TITLE=Hom
 e:geo:-4.261871,-79.223844
END:VEVENT
BEGIN:VTIMEZONE
TZID:America/Guayaquil
X-LIC-LOCATION:America/Guayaquil
BEGIN:STANDARD
DTSTART:20241002T000000
TZOFFSETFROM:-0500
TZOFFSETTO:-0500
TZNAME:-05
END:STANDARD
END:VTIMEZONE
END:VCALENDAR