BEGIN:VCALENDAR
VERSION:2.0
PRODID:-//wp-events-plugin.com//7.2.3.1//EN
TZID:America/Guayaquil
X-WR-TIMEZONE:America/Guayaquil
BEGIN:VEVENT
UID:1@vilcavibes.com
DTSTART;TZID=America/Guayaquil:20250721T170000
DTEND;TZID=America/Guayaquil:20250724T180000
DTSTAMP:20250819T053939Z
URL:https://vilcavibes.com/events/testing-music/
SUMMARY:Testing Music
DESCRIPTION:Come to this Great Event!\n
ATTACH;FMTTYPE=image/jpeg:https://vilcavibes.com/wp-content/uploads/2025/0
 7/HD-wallpaper-best-whatsapp-dp-boy-walking-alone-birds-thumbnail.jpg
CATEGORIES:Community Activities
LOCATION:Location Test 1\, Av. Eterna Juventud 1345\, Vilcabamba\, Loja\, 1
 10119\, Ecuador
GEO:-4.261871;-79.223844
X-APPLE-STRUCTURED-LOCATION;VALUE=URI;X-ADDRESS=Av. Eterna Juventud 1345\, 
 Vilcabamba\, Loja\, 110119\, Ecuador;X-APPLE-RADIUS=100;X-TITLE=Location T
 est 1:geo:-4.261871,-79.223844
END:VEVENT
BEGIN:VTIMEZONE
TZID:America/Guayaquil
X-LIC-LOCATION:America/Guayaquil
BEGIN:STANDARD
DTSTART:20240721T170000
TZOFFSETFROM:-0500
TZOFFSETTO:-0500
TZNAME:-05
END:STANDARD
END:VTIMEZONE
END:VCALENDAR