BEGIN:VCALENDAR
VERSION:2.0
PRODID:-//wp-events-plugin.com//7.2.3.1//EN
TZID:America/Guayaquil
X-WR-TIMEZONE:America/Guayaquil
BEGIN:VEVENT
UID:11@vilcavibes.com
DTSTART;TZID=America/Guayaquil:20250906T080000
DTEND;TZID=America/Guayaquil:20250906T100000
DTSTAMP:20250826T172639Z
URL:https://vilcavibes.com/events/test-vendor-b/
SUMMARY:Test Vendor B
DESCRIPTION:Testing Events
ATTACH;FMTTYPE=image/jpeg:https://vilcavibes.com/wp-content/uploads/2025/0
 8/Erickson_7504-2.jpg
CATEGORIES:Hobby Classes
LOCATION:Cuenca\, C. Mendoza\, Cuenca\, Ecuador\, 010107\, United States
GEO:38.794595;-106.534838
X-APPLE-STRUCTURED-LOCATION;VALUE=URI;X-ADDRESS=C. Mendoza\, Cuenca\, Ecuad
 or\, 010107\, United States;X-APPLE-RADIUS=100;X-TITLE=Cuenca:geo:38.79459
 5,-106.534838
END:VEVENT
BEGIN:VTIMEZONE
TZID:America/Guayaquil
X-LIC-LOCATION:America/Guayaquil
BEGIN:STANDARD
DTSTART:20240906T080000
TZOFFSETFROM:-0500
TZOFFSETTO:-0500
TZNAME:-05
END:STANDARD
END:VTIMEZONE
END:VCALENDAR