BEGIN:VCALENDAR
VERSION:2.0
PRODID:-//wp-events-plugin.com//7.2.3.1//EN
TZID:America/Guayaquil
X-WR-TIMEZONE:America/Guayaquil
BEGIN:VEVENT
UID:3@vilcavibes.com
DTSTART;TZID=America/Guayaquil:20250807T070000
DTEND;TZID=America/Guayaquil:20250807T150000
DTSTAMP:20250806T182729Z
URL:https://vilcavibes.com/events/test-event-2/
SUMMARY:test event
DESCRIPTION:testing data
CATEGORIES:Kids’ Activities
LOCATION:Location Test 1\, Av. Eterna Juventud 1345\, Vilcabamba\, Loja\, 1
 10119\, Ecuador
GEO:-4.261871;-79.223844
X-APPLE-STRUCTURED-LOCATION;VALUE=URI;X-ADDRESS=Av. Eterna Juventud 1345\, 
 Vilcabamba\, Loja\, 110119\, Ecuador;X-APPLE-RADIUS=100;X-TITLE=Location T
 est 1:geo:-4.261871,-79.223844
END:VEVENT
BEGIN:VTIMEZONE
TZID:America/Guayaquil
X-LIC-LOCATION:America/Guayaquil
BEGIN:STANDARD
DTSTART:20240807T070000
TZOFFSETFROM:-0500
TZOFFSETTO:-0500
TZNAME:-05
END:STANDARD
END:VTIMEZONE
END:VCALENDAR