BEGIN:VCALENDAR
VERSION:2.0
PRODID:-//wp-events-plugin.com//7.2.3.1//EN
TZID:America/Guayaquil
X-WR-TIMEZONE:America/Guayaquil
BEGIN:VEVENT
UID:13@vilcavibes.com
DTSTART;TZID=America/Guayaquil:20250830T080000
DTEND;TZID=America/Guayaquil:20250830T100000
DTSTAMP:20250829T111010Z
URL:https://vilcavibes.com/events/new-test-event/
SUMMARY:New Test Event
DESCRIPTION:Testing
ATTACH;FMTTYPE=image/jpeg:https://vilcavibes.com/wp-content/uploads/Screen
 shot-2025-08-26-202940.png
CATEGORIES:Community Activities
LOCATION:Quito\, 170102\, Quito\, Ecuador\, Ecuador
GEO:-0.139931;-78.494524
X-APPLE-STRUCTURED-LOCATION;VALUE=URI;X-ADDRESS=170102\, Quito\, Ecuador\, 
 Ecuador;X-APPLE-RADIUS=100;X-TITLE=Quito:geo:-0.139931,-78.494524
END:VEVENT
BEGIN:VTIMEZONE
TZID:America/Guayaquil
X-LIC-LOCATION:America/Guayaquil
BEGIN:STANDARD
DTSTART:20240830T080000
TZOFFSETFROM:-0500
TZOFFSETTO:-0500
TZNAME:-05
END:STANDARD
END:VTIMEZONE
END:VCALENDAR