BEGIN:VCALENDAR
VERSION:2.0
PRODID:-//wp-events-plugin.com//7.2.3.1//EN
TZID:America/Guayaquil
X-WR-TIMEZONE:America/Guayaquil
BEGIN:VEVENT
UID:14@vilcavibes.com
DTSTART;TZID=America/Guayaquil:20250908T130000
DTEND;TZID=America/Guayaquil:20250908T150000
DTSTAMP:20250906T204428Z
URL:https://vilcavibes.com/events/add-event-page-event/
SUMMARY:Add Event Page Event
DESCRIPTION:testing\, this great event! h\;\;vvv\n\nj\;ygn /lwjgejgg\n\ngoi
 rnmdjdoispa'''aa
ATTACH;FMTTYPE=image/jpeg:https://vilcavibes.com/wp-content/uploads/2025-0
 9-05-08.12.56.jpg
CATEGORIES:Hobby Classes
LOCATION:Home\, Av. Eterna Juventud 1345\, Vilcabamba\, Loja\, 110119\, Loj
 a\, Ecuador
GEO:-4.261871;-79.223844
X-APPLE-STRUCTURED-LOCATION;VALUE=URI;X-ADDRESS=Av. Eterna Juventud 1345\, 
 Vilcabamba\, Loja\, 110119\, Loja\, Ecuador;X-APPLE-RADIUS=100;X-TITLE=Hom
 e:geo:-4.261871,-79.223844
END:VEVENT
BEGIN:VTIMEZONE
TZID:America/Guayaquil
X-LIC-LOCATION:America/Guayaquil
BEGIN:STANDARD
DTSTART:20240908T130000
TZOFFSETFROM:-0500
TZOFFSETTO:-0500
TZNAME:-05
END:STANDARD
END:VTIMEZONE
END:VCALENDAR